BEGIN:VCALENDAR
VERSION:2.0
PRODID:-//Saint Louis Art Museum - ECPv6.15.18//NONSGML v1.0//EN
CALSCALE:GREGORIAN
METHOD:PUBLISH
X-WR-CALNAME:Saint Louis Art Museum
X-ORIGINAL-URL:https://www.slam.org
X-WR-CALDESC:Events for Saint Louis Art Museum
REFRESH-INTERVAL;VALUE=DURATION:PT1H
X-Robots-Tag:noindex
X-PUBLISHED-TTL:PT1H
BEGIN:VTIMEZONE
TZID:America/Chicago
BEGIN:DAYLIGHT
TZOFFSETFROM:-0600
TZOFFSETTO:-0500
TZNAME:CDT
DTSTART:20200308T080000
END:DAYLIGHT
BEGIN:STANDARD
TZOFFSETFROM:-0500
TZOFFSETTO:-0600
TZNAME:CST
DTSTART:20201101T070000
END:STANDARD
BEGIN:DAYLIGHT
TZOFFSETFROM:-0600
TZOFFSETTO:-0500
TZNAME:CDT
DTSTART:20210314T080000
END:DAYLIGHT
BEGIN:STANDARD
TZOFFSETFROM:-0500
TZOFFSETTO:-0600
TZNAME:CST
DTSTART:20211107T070000
END:STANDARD
BEGIN:DAYLIGHT
TZOFFSETFROM:-0600
TZOFFSETTO:-0500
TZNAME:CDT
DTSTART:20220313T080000
END:DAYLIGHT
BEGIN:STANDARD
TZOFFSETFROM:-0500
TZOFFSETTO:-0600
TZNAME:CST
DTSTART:20221106T070000
END:STANDARD
END:VTIMEZONE
BEGIN:VEVENT
DTSTART;TZID=America/Chicago:20211014T120000
DTEND;TZID=America/Chicago:20211014T130000
DTSTAMP:20260422T040146
CREATED:20210810T173712Z
LAST-MODIFIED:20210816T144003Z
UID:74730-1634212800-1634216400@www.slam.org
SUMMARY:Art Along the Rivers: Art at the Confluence
DESCRIPTION:Join Melissa Wolfe\, curator of American art\, to explore works of art included in the first section of Art Along the Rivers: A Bicentennial Celebration. This talk will introduce how the confluence of the three most powerful rivers in North America—the Mississippi\, the Missouri\, and the Ohio—and the major trade and migration routes have profoundly shaped the objects produced within the region. Geographic confluence also created notable cultural confluences\, which resulted in objects that drew their form from the diverse traditions present in the area. As both an outpost and a gathering point\, the region provided fertile ground for the growth of a distinctive artistic identity. \nThis virtual program will take place via Zoom and will include opportunities for participants to ask questions with the Q&A feature. Attendees’ mics and cameras will not be activated. This event will have automated closed captions. \nAttendees must register to receive the Zoom link. Capacity for the live program is limited. \nA closed-captioned recording of the program will become available on the Museum’s YouTube channel and website in the weeks following.
URL:https://www.slam.org/event/art-along-the-rivers-art-at-the-confluence/
LOCATION:Online
CATEGORIES:Adults
END:VEVENT
END:VCALENDAR