BEGIN:VCALENDAR
VERSION:2.0
PRODID:-//Saint Louis Art Museum - ECPv6.15.18//NONSGML v1.0//EN
CALSCALE:GREGORIAN
METHOD:PUBLISH
X-WR-CALNAME:Saint Louis Art Museum
X-ORIGINAL-URL:https://www.slam.org
X-WR-CALDESC:Events for Saint Louis Art Museum
REFRESH-INTERVAL;VALUE=DURATION:PT1H
X-Robots-Tag:noindex
X-PUBLISHED-TTL:PT1H
BEGIN:VTIMEZONE
TZID:America/Chicago
BEGIN:DAYLIGHT
TZOFFSETFROM:-0600
TZOFFSETTO:-0500
TZNAME:CDT
DTSTART:20200308T080000
END:DAYLIGHT
BEGIN:STANDARD
TZOFFSETFROM:-0500
TZOFFSETTO:-0600
TZNAME:CST
DTSTART:20201101T070000
END:STANDARD
BEGIN:DAYLIGHT
TZOFFSETFROM:-0600
TZOFFSETTO:-0500
TZNAME:CDT
DTSTART:20210314T080000
END:DAYLIGHT
BEGIN:STANDARD
TZOFFSETFROM:-0500
TZOFFSETTO:-0600
TZNAME:CST
DTSTART:20211107T070000
END:STANDARD
BEGIN:DAYLIGHT
TZOFFSETFROM:-0600
TZOFFSETTO:-0500
TZNAME:CDT
DTSTART:20220313T080000
END:DAYLIGHT
BEGIN:STANDARD
TZOFFSETFROM:-0500
TZOFFSETTO:-0600
TZNAME:CST
DTSTART:20221106T070000
END:STANDARD
END:VTIMEZONE
BEGIN:VEVENT
DTSTART;TZID=America/Chicago:20210812T120000
DTEND;TZID=America/Chicago:20210812T130000
DTSTAMP:20260422T092335
CREATED:20210707T032228Z
LAST-MODIFIED:20210707T204435Z
UID:68455-1628769600-1628773200@www.slam.org
SUMMARY:Art Speaks: Adventures in the Photography of Architecture
DESCRIPTION:This presentation by Eric Lutz\, associate curator of prints\, drawings\, and photographs\, takes an in-depth look at select pieces in the current exhibition Architectural Photography from the Collection\, 1850–2000. It considers the various ways in which artists such as Walker Evans have responded to the built environment through the photographic medium. \nThis virtual program will take place via Zoom and will include opportunities for participants to ask questions with the Q&A feature. Attendees’ mics and cameras will not be activated. This event will have automated closed captions through Zoom. \nAttendees must register to receive the Zoom link. Capacity for the live program is limited. \nA closed-captioned recording of the program will become available on the Museum’s YouTube channel and website in the weeks following.
URL:https://www.slam.org/event/art-speaks-adventures-in-the-photography-of-architecture/
LOCATION:Online
CATEGORIES:Adults
END:VEVENT
END:VCALENDAR