BEGIN:VCALENDAR
VERSION:2.0
PRODID:-//Saint Louis Art Museum - ECPv6.15.18//NONSGML v1.0//EN
CALSCALE:GREGORIAN
METHOD:PUBLISH
X-WR-CALNAME:Saint Louis Art Museum
X-ORIGINAL-URL:https://www.slam.org
X-WR-CALDESC:Events for Saint Louis Art Museum
REFRESH-INTERVAL;VALUE=DURATION:PT1H
X-Robots-Tag:noindex
X-PUBLISHED-TTL:PT1H
BEGIN:VTIMEZONE
TZID:America/Chicago
BEGIN:DAYLIGHT
TZOFFSETFROM:-0600
TZOFFSETTO:-0500
TZNAME:CDT
DTSTART:20240310T080000
END:DAYLIGHT
BEGIN:STANDARD
TZOFFSETFROM:-0500
TZOFFSETTO:-0600
TZNAME:CST
DTSTART:20241103T070000
END:STANDARD
BEGIN:DAYLIGHT
TZOFFSETFROM:-0600
TZOFFSETTO:-0500
TZNAME:CDT
DTSTART:20250309T080000
END:DAYLIGHT
BEGIN:STANDARD
TZOFFSETFROM:-0500
TZOFFSETTO:-0600
TZNAME:CST
DTSTART:20251102T070000
END:STANDARD
BEGIN:DAYLIGHT
TZOFFSETFROM:-0600
TZOFFSETTO:-0500
TZNAME:CDT
DTSTART:20260308T080000
END:DAYLIGHT
BEGIN:STANDARD
TZOFFSETFROM:-0500
TZOFFSETTO:-0600
TZNAME:CST
DTSTART:20261101T070000
END:STANDARD
END:VTIMEZONE
BEGIN:VEVENT
DTSTART;TZID=America/Chicago:20251003T130000
DTEND;TZID=America/Chicago:20251003T140000
DTSTAMP:20260422T125903
CREATED:20250710T162659Z
LAST-MODIFIED:20250905T193825Z
UID:222467-1759496400-1759500000@www.slam.org
SUMMARY:Drop-in Collection Tour—Architectural Wonders
DESCRIPTION:Join this guided tour and immerse yourself in the illusions of space. Explore artists’ portrayals of homes\, palaces\, and places of worship filled with grand and elaborate interiors. \nTours will meet in Sculpture Hall and are available on a first-come\, first-served basis.
URL:https://www.slam.org/event/drop-in-collection-tour-architectural-wonders/
LOCATION:Saint Louis Art Museum\, One Fine Arts Drive\, Forest Park\, St. Louis\, MO\, 63110-1380
CATEGORIES:Free Fridays,Tours
END:VEVENT
END:VCALENDAR