BEGIN:VCALENDAR
VERSION:2.0
PRODID:-//Saint Louis Art Museum - ECPv6.15.18//NONSGML v1.0//EN
CALSCALE:GREGORIAN
METHOD:PUBLISH
X-WR-CALNAME:Saint Louis Art Museum
X-ORIGINAL-URL:https://www.slam.org
X-WR-CALDESC:Events for Saint Louis Art Museum
REFRESH-INTERVAL;VALUE=DURATION:PT1H
X-Robots-Tag:noindex
X-PUBLISHED-TTL:PT1H
BEGIN:VTIMEZONE
TZID:America/Chicago
BEGIN:DAYLIGHT
TZOFFSETFROM:-0600
TZOFFSETTO:-0500
TZNAME:CDT
DTSTART:20250309T080000
END:DAYLIGHT
BEGIN:STANDARD
TZOFFSETFROM:-0500
TZOFFSETTO:-0600
TZNAME:CST
DTSTART:20251102T070000
END:STANDARD
BEGIN:DAYLIGHT
TZOFFSETFROM:-0600
TZOFFSETTO:-0500
TZNAME:CDT
DTSTART:20260308T080000
END:DAYLIGHT
BEGIN:STANDARD
TZOFFSETFROM:-0500
TZOFFSETTO:-0600
TZNAME:CST
DTSTART:20261101T070000
END:STANDARD
BEGIN:DAYLIGHT
TZOFFSETFROM:-0600
TZOFFSETTO:-0500
TZNAME:CDT
DTSTART:20270314T080000
END:DAYLIGHT
BEGIN:STANDARD
TZOFFSETFROM:-0500
TZOFFSETTO:-0600
TZNAME:CST
DTSTART:20271107T070000
END:STANDARD
END:VTIMEZONE
BEGIN:VEVENT
DTSTART;TZID=America/Chicago:20260522T130000
DTEND;TZID=America/Chicago:20260522T140000
DTSTAMP:20260424T085401
CREATED:20260416T142944Z
LAST-MODIFIED:20260422T152956Z
UID:263511-1779454800-1779458400@www.slam.org
SUMMARY:Drop-in Collection Tour with the St. Louis African Arts Festival—African Resonances
DESCRIPTION:Join a guided tour of SLAM’s collection inspired by vibrant African artistic traditions and their global legacy. Visitors will explore not only the Museum’s African galleries but also how African art has sparked creativity across cultures\, shaping major artistic movements and inspiring artists in different places and periods of time. This tour is offered in partnership with the St. Louis African Arts Festival. The festival will run from May 23 to May 25\, 2026. \nAn assigned volunteer educators will meet attendees at the welcome desk in Sculpture Hall. Space is limited and will be assigned on a first-come\, first-served basis.
URL:https://www.slam.org/event/drop-in-collection-tour-with-the-st-louis-african-arts-festival-african-resonances-5-22-26/
LOCATION:Saint Louis Art Museum\, One Fine Arts Drive\, Forest Park\, St. Louis\, MO\, 63110-1380
CATEGORIES:Free Fridays,Tours
END:VEVENT
END:VCALENDAR