BEGIN:VCALENDAR
VERSION:2.0
PRODID:-//Saint Louis Art Museum - ECPv6.15.18//NONSGML v1.0//EN
CALSCALE:GREGORIAN
METHOD:PUBLISH
X-WR-CALNAME:Saint Louis Art Museum
X-ORIGINAL-URL:https://www.slam.org
X-WR-CALDESC:Events for Saint Louis Art Museum
REFRESH-INTERVAL;VALUE=DURATION:PT1H
X-Robots-Tag:noindex
X-PUBLISHED-TTL:PT1H
BEGIN:VTIMEZONE
TZID:America/Chicago
BEGIN:DAYLIGHT
TZOFFSETFROM:-0600
TZOFFSETTO:-0500
TZNAME:CDT
DTSTART:20250309T080000
END:DAYLIGHT
BEGIN:STANDARD
TZOFFSETFROM:-0500
TZOFFSETTO:-0600
TZNAME:CST
DTSTART:20251102T070000
END:STANDARD
BEGIN:DAYLIGHT
TZOFFSETFROM:-0600
TZOFFSETTO:-0500
TZNAME:CDT
DTSTART:20260308T080000
END:DAYLIGHT
BEGIN:STANDARD
TZOFFSETFROM:-0500
TZOFFSETTO:-0600
TZNAME:CST
DTSTART:20261101T070000
END:STANDARD
BEGIN:DAYLIGHT
TZOFFSETFROM:-0600
TZOFFSETTO:-0500
TZNAME:CDT
DTSTART:20270314T080000
END:DAYLIGHT
BEGIN:STANDARD
TZOFFSETFROM:-0500
TZOFFSETTO:-0600
TZNAME:CST
DTSTART:20271107T070000
END:STANDARD
END:VTIMEZONE
BEGIN:VEVENT
DTSTART;TZID=America/Chicago:20260730T103000
DTEND;TZID=America/Chicago:20260730T130000
DTSTAMP:20260425T214522
CREATED:20260408T133623Z
LAST-MODIFIED:20260420T161722Z
UID:258078-1785407400-1785416400@www.slam.org
SUMMARY:Everyone Can Create: An All-Abilities Summer Art Studio
DESCRIPTION:Everyone Can Create: An All-Abilities Art Studio is a welcoming summer space where visitors of all abilities can explore art making at their own pace. Inspired by the Museum’s collection\, the studio offers inclusive activities designed to support a range of learning styles and sensory needs. Visitors are invited to create together in an environment centered on access\, belonging\, and joyful expression. This art studio will be guided by an artist with lived experience of disability. Please contact access@slam.org to register your group today. \nThe program is designed for adults but can be adapted for all ages. It will run Thursdays\, July 2–July 30\, from 10:30 am to 1 pm\, with no session offered July 9.
URL:https://www.slam.org/event/everyone-can-create-an-all-abilities-summer-art-studio-at-the-saint-louis-art-museum/2026-07-30/
LOCATION:Education Center\, One Fine Arts Drive\, Forest Park\, St. Louis\, Missouri\, 63110-1380
CATEGORIES:Adults
END:VEVENT
END:VCALENDAR