BEGIN:VCALENDAR
VERSION:2.0
PRODID:-//Saint Louis Art Museum - ECPv6.15.18//NONSGML v1.0//EN
CALSCALE:GREGORIAN
METHOD:PUBLISH
X-WR-CALNAME:Saint Louis Art Museum
X-ORIGINAL-URL:https://www.slam.org
X-WR-CALDESC:Events for Saint Louis Art Museum
REFRESH-INTERVAL;VALUE=DURATION:PT1H
X-Robots-Tag:noindex
X-PUBLISHED-TTL:PT1H
BEGIN:VTIMEZONE
TZID:America/Chicago
BEGIN:DAYLIGHT
TZOFFSETFROM:-0600
TZOFFSETTO:-0500
TZNAME:CDT
DTSTART:20240310T080000
END:DAYLIGHT
BEGIN:STANDARD
TZOFFSETFROM:-0500
TZOFFSETTO:-0600
TZNAME:CST
DTSTART:20241103T070000
END:STANDARD
BEGIN:DAYLIGHT
TZOFFSETFROM:-0600
TZOFFSETTO:-0500
TZNAME:CDT
DTSTART:20250309T080000
END:DAYLIGHT
BEGIN:STANDARD
TZOFFSETFROM:-0500
TZOFFSETTO:-0600
TZNAME:CST
DTSTART:20251102T070000
END:STANDARD
BEGIN:DAYLIGHT
TZOFFSETFROM:-0600
TZOFFSETTO:-0500
TZNAME:CDT
DTSTART:20260308T080000
END:DAYLIGHT
BEGIN:STANDARD
TZOFFSETFROM:-0500
TZOFFSETTO:-0600
TZNAME:CST
DTSTART:20261101T070000
END:STANDARD
END:VTIMEZONE
BEGIN:VEVENT
DTSTART;TZID=America/Chicago:20250413T130000
DTEND;TZID=America/Chicago:20250413T160000
DTSTAMP:20260422T055749
CREATED:20250116T210450Z
LAST-MODIFIED:20250407T213843Z
UID:198030-1744549200-1744560000@www.slam.org
SUMMARY:Family Sunday—Roaring Opening Celebration
DESCRIPTION:Family Sunday activities focus on a different\, family-friendly theme each time. This week\, step back into a period of exceptional creativity and innovation while celebrating the opening of Roaring: Art\, Fashion\, and the Automobile in France\, 1918–1939.
URL:https://www.slam.org/event/family-sunday-roaring-art-fashion-and-the-automobile-in-france-1918-1939-opening-celebration/
LOCATION:Sculpture Hall\, One Fine Arts Drive\, Forest Park\, St. Louis\, Missouri\, 63110-1380
CATEGORIES:Families
END:VEVENT
END:VCALENDAR