BEGIN:VCALENDAR
VERSION:2.0
PRODID:-//Saint Louis Art Museum - ECPv6.15.18//NONSGML v1.0//EN
CALSCALE:GREGORIAN
METHOD:PUBLISH
X-WR-CALNAME:Saint Louis Art Museum
X-ORIGINAL-URL:https://www.slam.org
X-WR-CALDESC:Events for Saint Louis Art Museum
REFRESH-INTERVAL;VALUE=DURATION:PT1H
X-Robots-Tag:noindex
X-PUBLISHED-TTL:PT1H
BEGIN:VTIMEZONE
TZID:America/Chicago
BEGIN:DAYLIGHT
TZOFFSETFROM:-0600
TZOFFSETTO:-0500
TZNAME:CDT
DTSTART:20240310T080000
END:DAYLIGHT
BEGIN:STANDARD
TZOFFSETFROM:-0500
TZOFFSETTO:-0600
TZNAME:CST
DTSTART:20241103T070000
END:STANDARD
BEGIN:DAYLIGHT
TZOFFSETFROM:-0600
TZOFFSETTO:-0500
TZNAME:CDT
DTSTART:20250309T080000
END:DAYLIGHT
BEGIN:STANDARD
TZOFFSETFROM:-0500
TZOFFSETTO:-0600
TZNAME:CST
DTSTART:20251102T070000
END:STANDARD
BEGIN:DAYLIGHT
TZOFFSETFROM:-0600
TZOFFSETTO:-0500
TZNAME:CDT
DTSTART:20260308T080000
END:DAYLIGHT
BEGIN:STANDARD
TZOFFSETFROM:-0500
TZOFFSETTO:-0600
TZNAME:CST
DTSTART:20261101T070000
END:STANDARD
END:VTIMEZONE
BEGIN:VEVENT
DTSTART;VALUE=DATE:20251205
DTEND;VALUE=DATE:20251206
DTSTAMP:20260424T035514
CREATED:20250801T180302Z
LAST-MODIFIED:20251202T220306Z
UID:224944-1764892800-1764979199@www.slam.org
SUMMARY:Festive Friday
DESCRIPTION:SLAM will celebrate the holiday season with free concerts\, tours\, gallery activations\, and art-making activities every Friday from November 28 through December 19. In between programs and visits to the galleries\, stop by a holiday pop-up bar in Sculpture Hall to purchase seasonal drinks and snacks. \nTickets for events in The Farrell Auditorium are available at the welcome desk in Taylor Hall beginning at 10 am the day of performance.
URL:https://www.slam.org/event/festive-friday-2-2/
LOCATION:Saint Louis Art Museum\, One Fine Arts Drive\, Forest Park\, St. Louis\, MO\, 63110-1380
CATEGORIES:Families,Festival,Free Fridays
END:VEVENT
END:VCALENDAR