BEGIN:VCALENDAR
VERSION:2.0
PRODID:-//Saint Louis Art Museum - ECPv6.15.18//NONSGML v1.0//EN
CALSCALE:GREGORIAN
METHOD:PUBLISH
X-WR-CALNAME:Saint Louis Art Museum
X-ORIGINAL-URL:https://www.slam.org
X-WR-CALDESC:Events for Saint Louis Art Museum
REFRESH-INTERVAL;VALUE=DURATION:PT1H
X-Robots-Tag:noindex
X-PUBLISHED-TTL:PT1H
BEGIN:VTIMEZONE
TZID:America/Chicago
BEGIN:DAYLIGHT
TZOFFSETFROM:-0600
TZOFFSETTO:-0500
TZNAME:CDT
DTSTART:20250309T080000
END:DAYLIGHT
BEGIN:STANDARD
TZOFFSETFROM:-0500
TZOFFSETTO:-0600
TZNAME:CST
DTSTART:20251102T070000
END:STANDARD
BEGIN:DAYLIGHT
TZOFFSETFROM:-0600
TZOFFSETTO:-0500
TZNAME:CDT
DTSTART:20260308T080000
END:DAYLIGHT
BEGIN:STANDARD
TZOFFSETFROM:-0500
TZOFFSETTO:-0600
TZNAME:CST
DTSTART:20261101T070000
END:STANDARD
BEGIN:DAYLIGHT
TZOFFSETFROM:-0600
TZOFFSETTO:-0500
TZNAME:CDT
DTSTART:20270314T080000
END:DAYLIGHT
BEGIN:STANDARD
TZOFFSETFROM:-0500
TZOFFSETTO:-0600
TZNAME:CST
DTSTART:20271107T070000
END:STANDARD
END:VTIMEZONE
BEGIN:VEVENT
DTSTART;VALUE=DATE:20260515
DTEND;VALUE=DATE:20260516
DTSTAMP:20260419T101402
CREATED:20260317T175117Z
LAST-MODIFIED:20260317T175117Z
UID:257357-1778803200-1778889599@www.slam.org
SUMMARY:Free Fridays—Ancient Splendor: Roman Art in the Time of Trajan
DESCRIPTION:Experience the exhibition Ancient Splendor: Roman Art in the Time of Trajan for free! On Fridays\, the Museum is open late and the last entry to the exhibition is at 8 pm. \nAlthough the exhibition is free on Friday\, tickets are required.
URL:https://www.slam.org/event/free-fridays-ancient-splendor-roman-art-in-the-time-of-trajan/2026-05-15/
LOCATION:Saint Louis Art Museum\, One Fine Arts Drive\, Forest Park\, St. Louis\, MO\, 63110-1380
CATEGORIES:Free Fridays
END:VEVENT
END:VCALENDAR