BEGIN:VCALENDAR
VERSION:2.0
PRODID:-//Saint Louis Art Museum - ECPv6.15.18//NONSGML v1.0//EN
CALSCALE:GREGORIAN
METHOD:PUBLISH
X-WR-CALNAME:Saint Louis Art Museum
X-ORIGINAL-URL:https://www.slam.org
X-WR-CALDESC:Events for Saint Louis Art Museum
REFRESH-INTERVAL;VALUE=DURATION:PT1H
X-Robots-Tag:noindex
X-PUBLISHED-TTL:PT1H
BEGIN:VTIMEZONE
TZID:America/Chicago
BEGIN:DAYLIGHT
TZOFFSETFROM:-0600
TZOFFSETTO:-0500
TZNAME:CDT
DTSTART:20230312T080000
END:DAYLIGHT
BEGIN:STANDARD
TZOFFSETFROM:-0500
TZOFFSETTO:-0600
TZNAME:CST
DTSTART:20231105T070000
END:STANDARD
BEGIN:DAYLIGHT
TZOFFSETFROM:-0600
TZOFFSETTO:-0500
TZNAME:CDT
DTSTART:20240310T080000
END:DAYLIGHT
BEGIN:STANDARD
TZOFFSETFROM:-0500
TZOFFSETTO:-0600
TZNAME:CST
DTSTART:20241103T070000
END:STANDARD
BEGIN:DAYLIGHT
TZOFFSETFROM:-0600
TZOFFSETTO:-0500
TZNAME:CDT
DTSTART:20250309T080000
END:DAYLIGHT
BEGIN:STANDARD
TZOFFSETFROM:-0500
TZOFFSETTO:-0600
TZNAME:CST
DTSTART:20251102T070000
END:STANDARD
END:VTIMEZONE
BEGIN:VEVENT
DTSTART;TZID=America/Chicago:20240315T180000
DTEND;TZID=America/Chicago:20240315T193000
DTSTAMP:20260419T075949
CREATED:20231127T221622Z
LAST-MODIFIED:20240229T154102Z
UID:138429-1710525600-1710531000@www.slam.org
SUMMARY:If It Wasn’t for the Women: Navigating Memory
DESCRIPTION:This year’s panel discussion celebrating women of color in the arts will explore memory. Artists Alayna N. Pernell\, Marina Peng\, and Allena Marie Brazier will discuss how their multidisciplinary practices emerge from photography and use memories as vehicles for introspection\, healing\, and advocacy. The artists identify\, reflect\, and challenge systemic issues that shape their identities. The conversation will be moderated by Justice Henderson\, the 2023-2025 Romare Bearden Graduate Museum Fellow.
URL:https://www.slam.org/event/if-it-wasnt-for-the-women-navigating-memory/
LOCATION:The Farrell Auditorium\, One Fine Arts Drive\, Forest Park\,\, St. Louis\, Missouri\, 63110-1380
CATEGORIES:Free Fridays,Panel conversation,Virtual event
END:VEVENT
END:VCALENDAR