BEGIN:VCALENDAR
VERSION:2.0
PRODID:-//Saint Louis Art Museum - ECPv6.15.18//NONSGML v1.0//EN
CALSCALE:GREGORIAN
METHOD:PUBLISH
X-WR-CALNAME:Saint Louis Art Museum
X-ORIGINAL-URL:https://www.slam.org
X-WR-CALDESC:Events for Saint Louis Art Museum
REFRESH-INTERVAL;VALUE=DURATION:PT1H
X-Robots-Tag:noindex
X-PUBLISHED-TTL:PT1H
BEGIN:VTIMEZONE
TZID:America/Chicago
BEGIN:DAYLIGHT
TZOFFSETFROM:-0600
TZOFFSETTO:-0500
TZNAME:CDT
DTSTART:20240310T080000
END:DAYLIGHT
BEGIN:STANDARD
TZOFFSETFROM:-0500
TZOFFSETTO:-0600
TZNAME:CST
DTSTART:20241103T070000
END:STANDARD
BEGIN:DAYLIGHT
TZOFFSETFROM:-0600
TZOFFSETTO:-0500
TZNAME:CDT
DTSTART:20250309T080000
END:DAYLIGHT
BEGIN:STANDARD
TZOFFSETFROM:-0500
TZOFFSETTO:-0600
TZNAME:CST
DTSTART:20251102T070000
END:STANDARD
BEGIN:DAYLIGHT
TZOFFSETFROM:-0600
TZOFFSETTO:-0500
TZNAME:CDT
DTSTART:20260308T080000
END:DAYLIGHT
BEGIN:STANDARD
TZOFFSETFROM:-0500
TZOFFSETTO:-0600
TZNAME:CST
DTSTART:20261101T070000
END:STANDARD
END:VTIMEZONE
BEGIN:VEVENT
DTSTART;TZID=America/Chicago:20251017T160000
DTEND;TZID=America/Chicago:20251017T200000
DTSTAMP:20260420T093552
CREATED:20250715T173302Z
LAST-MODIFIED:20251015T193525Z
UID:223720-1760716800-1760731200@www.slam.org
SUMMARY:Public Preview—Anselm Kiefer: Becoming the Sea
DESCRIPTION:Celebrate the opening of Anselm Kiefer: Becoming the Sea\, the first major exhibition of German artist Anselm Kiefer’s works in America in more than 20 years. Sculpture Hall will be transformed by a special installation of five monumental Kiefer works made for the iconic space. There\, you can enjoy a specialty cocktail from a cash bar. Then wander into nearby Grigg Gallery to hear selections complementing the themes of the exhibition performed by the music faculty of Washington University in St. Louis and St. Louis String Collective. \nThe exhibition is presented for free; no tickets are required. See below for a schedule of events.
URL:https://www.slam.org/event/public-preview-anselm-kiefer-becoming-the-sea/
LOCATION:Saint Louis Art Museum\, One Fine Arts Drive\, Forest Park\, St. Louis\, MO\, 63110-1380
CATEGORIES:Exhibition opening,Free Fridays
END:VEVENT
END:VCALENDAR