BEGIN:VCALENDAR
VERSION:2.0
PRODID:-//Saint Louis Art Museum - ECPv6.15.18//NONSGML v1.0//EN
CALSCALE:GREGORIAN
METHOD:PUBLISH
X-WR-CALNAME:Saint Louis Art Museum
X-ORIGINAL-URL:https://www.slam.org
X-WR-CALDESC:Events for Saint Louis Art Museum
REFRESH-INTERVAL;VALUE=DURATION:PT1H
X-Robots-Tag:noindex
X-PUBLISHED-TTL:PT1H
BEGIN:VTIMEZONE
TZID:America/Chicago
BEGIN:DAYLIGHT
TZOFFSETFROM:-0600
TZOFFSETTO:-0500
TZNAME:CDT
DTSTART:20230312T080000
END:DAYLIGHT
BEGIN:STANDARD
TZOFFSETFROM:-0500
TZOFFSETTO:-0600
TZNAME:CST
DTSTART:20231105T070000
END:STANDARD
BEGIN:DAYLIGHT
TZOFFSETFROM:-0600
TZOFFSETTO:-0500
TZNAME:CDT
DTSTART:20240310T080000
END:DAYLIGHT
BEGIN:STANDARD
TZOFFSETFROM:-0500
TZOFFSETTO:-0600
TZNAME:CST
DTSTART:20241103T070000
END:STANDARD
BEGIN:DAYLIGHT
TZOFFSETFROM:-0600
TZOFFSETTO:-0500
TZNAME:CDT
DTSTART:20250309T080000
END:DAYLIGHT
BEGIN:STANDARD
TZOFFSETFROM:-0500
TZOFFSETTO:-0600
TZNAME:CST
DTSTART:20251102T070000
END:STANDARD
END:VTIMEZONE
BEGIN:VEVENT
DTSTART;TZID=America/Chicago:20240621T160000
DTEND;TZID=America/Chicago:20240621T200000
DTSTAMP:20260424T072849
CREATED:20231018T215103Z
LAST-MODIFIED:20240614T195225Z
UID:136570-1718985600-1719000000@www.slam.org
SUMMARY:Public preview of Art and Imagination in Spanish America\, 1500–1800
DESCRIPTION:Art and Imagination in Spanish America\, 1500–1800: Highlights from LACMA’s Collection features more than 100 works drawn from the Los Angeles County Museum of Art’s notable collection of Spanish colonial art\, which has largely been formed in the last fifteen years. The paintings\, sculptures\, and decorative arts on view underscore the generative power of Spanish America and its central position as a global crossroads. \nCelebrate the opening of Art and Imagination in Spanish America\, 1500–1800 with drinks and entertainment by Esteban Bakx Bermudez in Sculpture Hall and free tickets to the exhibition.
URL:https://www.slam.org/event/public-preview-of-art-and-imagination-in-spanish-america-1500-1800/
LOCATION:Sculpture Hall\, One Fine Arts Drive\, Forest Park\, St. Louis\, Missouri\, 63110-1380
CATEGORIES:Adults,Exhibition opening,Free Fridays
END:VEVENT
END:VCALENDAR