BEGIN:VCALENDAR
VERSION:2.0
PRODID:-//Saint Louis Art Museum - ECPv6.15.18//NONSGML v1.0//EN
CALSCALE:GREGORIAN
METHOD:PUBLISH
X-WR-CALNAME:Saint Louis Art Museum
X-ORIGINAL-URL:https://www.slam.org
X-WR-CALDESC:Events for Saint Louis Art Museum
REFRESH-INTERVAL;VALUE=DURATION:PT1H
X-Robots-Tag:noindex
X-PUBLISHED-TTL:PT1H
BEGIN:VTIMEZONE
TZID:America/Chicago
BEGIN:DAYLIGHT
TZOFFSETFROM:-0600
TZOFFSETTO:-0500
TZNAME:CDT
DTSTART:20240310T080000
END:DAYLIGHT
BEGIN:STANDARD
TZOFFSETFROM:-0500
TZOFFSETTO:-0600
TZNAME:CST
DTSTART:20241103T070000
END:STANDARD
BEGIN:DAYLIGHT
TZOFFSETFROM:-0600
TZOFFSETTO:-0500
TZNAME:CDT
DTSTART:20250309T080000
END:DAYLIGHT
BEGIN:STANDARD
TZOFFSETFROM:-0500
TZOFFSETTO:-0600
TZNAME:CST
DTSTART:20251102T070000
END:STANDARD
BEGIN:DAYLIGHT
TZOFFSETFROM:-0600
TZOFFSETTO:-0500
TZNAME:CDT
DTSTART:20260308T080000
END:DAYLIGHT
BEGIN:STANDARD
TZOFFSETFROM:-0500
TZOFFSETTO:-0600
TZNAME:CST
DTSTART:20261101T070000
END:STANDARD
END:VTIMEZONE
BEGIN:VEVENT
DTSTART;TZID=America/Chicago:20250411T160000
DTEND;TZID=America/Chicago:20250411T200000
DTSTAMP:20260424T084504
CREATED:20241226T212101Z
LAST-MODIFIED:20250407T221506Z
UID:193601-1744387200-1744401600@www.slam.org
SUMMARY:Public preview—Roaring: Art\, Fashion\, and the Automobile in France\, 1918–1939
DESCRIPTION:Celebrate the opening of Roaring with free tickets to the exhibition\, drinks from a cash bar\, and live music evocative of Jazz Age France performed by Joe Park and the Hot Club of St. Louis and Janet Evra.
URL:https://www.slam.org/event/public-preview-of-roaring-art-fashion-and-the-automobile-in-france-1918-1939/
LOCATION:Sculpture Hall\, One Fine Arts Drive\, Forest Park\, St. Louis\, Missouri\, 63110-1380
CATEGORIES:Adults,Exhibition opening,Free Fridays
END:VEVENT
END:VCALENDAR