BEGIN:VCALENDAR
VERSION:2.0
PRODID:-//Saint Louis Art Museum - ECPv6.15.18//NONSGML v1.0//EN
CALSCALE:GREGORIAN
METHOD:PUBLISH
X-WR-CALNAME:Saint Louis Art Museum
X-ORIGINAL-URL:https://www.slam.org
X-WR-CALDESC:Events for Saint Louis Art Museum
REFRESH-INTERVAL;VALUE=DURATION:PT1H
X-Robots-Tag:noindex
X-PUBLISHED-TTL:PT1H
BEGIN:VTIMEZONE
TZID:America/Chicago
BEGIN:DAYLIGHT
TZOFFSETFROM:-0600
TZOFFSETTO:-0500
TZNAME:CDT
DTSTART:20230312T080000
END:DAYLIGHT
BEGIN:STANDARD
TZOFFSETFROM:-0500
TZOFFSETTO:-0600
TZNAME:CST
DTSTART:20231105T070000
END:STANDARD
BEGIN:DAYLIGHT
TZOFFSETFROM:-0600
TZOFFSETTO:-0500
TZNAME:CDT
DTSTART:20240310T080000
END:DAYLIGHT
BEGIN:STANDARD
TZOFFSETFROM:-0500
TZOFFSETTO:-0600
TZNAME:CST
DTSTART:20241103T070000
END:STANDARD
BEGIN:DAYLIGHT
TZOFFSETFROM:-0600
TZOFFSETTO:-0500
TZNAME:CDT
DTSTART:20250309T080000
END:DAYLIGHT
BEGIN:STANDARD
TZOFFSETFROM:-0500
TZOFFSETTO:-0600
TZNAME:CST
DTSTART:20251102T070000
END:STANDARD
END:VTIMEZONE
BEGIN:VEVENT
DTSTART;TZID=America/Chicago:20240823T180000
DTEND;TZID=America/Chicago:20240823T200000
DTSTAMP:20260425T053506
CREATED:20240416T144517Z
LAST-MODIFIED:20240729T170922Z
UID:152561-1724436000-1724443200@www.slam.org
SUMMARY:SLAM Cinema—Son of the White Mare
DESCRIPTION:Dubbed one of the “greatest psychedelic animated movies ever made” by the film critic Eric Kohn\, this Hungarian animated fantasy adventure film is a tribute to ancient steppe peoples. It tells the story of Fehérlófia and his superhuman powers. Directed by Marcell Jankovics\, the 1981 film is based on the poetry of László Arany and ancient Hunnic\, Avaric\, and Hungarian legends. Unrated. 82 minutes.
URL:https://www.slam.org/event/slam-cinema-son-of-the-white-mare/
LOCATION:The Farrell Auditorium\, One Fine Arts Drive\, Forest Park\,\, St. Louis\, Missouri\, 63110-1380
CATEGORIES:Adults,Films,Free Fridays
END:VEVENT
END:VCALENDAR