BEGIN:VCALENDAR
VERSION:2.0
PRODID:-//Saint Louis Art Museum - ECPv6.15.18//NONSGML v1.0//EN
CALSCALE:GREGORIAN
METHOD:PUBLISH
X-WR-CALNAME:Saint Louis Art Museum
X-ORIGINAL-URL:https://www.slam.org
X-WR-CALDESC:Events for Saint Louis Art Museum
REFRESH-INTERVAL;VALUE=DURATION:PT1H
X-Robots-Tag:noindex
X-PUBLISHED-TTL:PT1H
BEGIN:VTIMEZONE
TZID:America/Chicago
BEGIN:DAYLIGHT
TZOFFSETFROM:-0600
TZOFFSETTO:-0500
TZNAME:CDT
DTSTART:20200308T080000
END:DAYLIGHT
BEGIN:STANDARD
TZOFFSETFROM:-0500
TZOFFSETTO:-0600
TZNAME:CST
DTSTART:20201101T070000
END:STANDARD
BEGIN:DAYLIGHT
TZOFFSETFROM:-0600
TZOFFSETTO:-0500
TZNAME:CDT
DTSTART:20210314T080000
END:DAYLIGHT
BEGIN:STANDARD
TZOFFSETFROM:-0500
TZOFFSETTO:-0600
TZNAME:CST
DTSTART:20211107T070000
END:STANDARD
BEGIN:DAYLIGHT
TZOFFSETFROM:-0600
TZOFFSETTO:-0500
TZNAME:CDT
DTSTART:20220313T080000
END:DAYLIGHT
BEGIN:STANDARD
TZOFFSETFROM:-0500
TZOFFSETTO:-0600
TZNAME:CST
DTSTART:20221106T070000
END:STANDARD
END:VTIMEZONE
BEGIN:VEVENT
DTSTART;TZID=America/Chicago:20210507T190000
DTEND;TZID=America/Chicago:20210507T200000
DTSTAMP:20260421T035915
CREATED:20210420T195042Z
LAST-MODIFIED:20210426T212126Z
UID:66239-1620414000-1620417600@www.slam.org
SUMMARY:Teen Open Studio: Metamorphosis
DESCRIPTION:Teens are invited to a virtual open studio inspired by the upcoming Young Artists Exhibition\, Metamorphosis: Yesterday\, Today\, Tomorrow. Create art using materials found at home\, engage with the collection\, and learn more about joining the Teen Arts Council. No art experience is required—everyone is welcome! This program is hosted by the Museum’s Teen Arts Council. \nThis virtual program will take place via Zoom. Attendees’ mics and cameras can be activated if you choose. The event will have automated closed captions through Zoom. \nTo participate in the art-making components\, please have recycled paper\, drawing materials\, scissors\, and tape or glue nearby during the program. \nAttendees must register to receive the Zoom link. Capacity for the program is limited. \n 
URL:https://www.slam.org/event/teen-open-studio-metamorphosis/
LOCATION:Online
CATEGORIES:Teens
END:VEVENT
END:VCALENDAR