BEGIN:VCALENDAR
VERSION:2.0
PRODID:-//Saint Louis Art Museum - ECPv6.15.18//NONSGML v1.0//EN
CALSCALE:GREGORIAN
METHOD:PUBLISH
X-WR-CALNAME:Saint Louis Art Museum
X-ORIGINAL-URL:https://www.slam.org
X-WR-CALDESC:Events for Saint Louis Art Museum
REFRESH-INTERVAL;VALUE=DURATION:PT1H
X-Robots-Tag:noindex
X-PUBLISHED-TTL:PT1H
BEGIN:VTIMEZONE
TZID:America/Chicago
BEGIN:DAYLIGHT
TZOFFSETFROM:-0600
TZOFFSETTO:-0500
TZNAME:CDT
DTSTART:20210314T080000
END:DAYLIGHT
BEGIN:STANDARD
TZOFFSETFROM:-0500
TZOFFSETTO:-0600
TZNAME:CST
DTSTART:20211107T070000
END:STANDARD
BEGIN:DAYLIGHT
TZOFFSETFROM:-0600
TZOFFSETTO:-0500
TZNAME:CDT
DTSTART:20220313T080000
END:DAYLIGHT
BEGIN:STANDARD
TZOFFSETFROM:-0500
TZOFFSETTO:-0600
TZNAME:CST
DTSTART:20221106T070000
END:STANDARD
BEGIN:DAYLIGHT
TZOFFSETFROM:-0600
TZOFFSETTO:-0500
TZNAME:CDT
DTSTART:20230312T080000
END:DAYLIGHT
BEGIN:STANDARD
TZOFFSETFROM:-0500
TZOFFSETTO:-0600
TZNAME:CST
DTSTART:20231105T070000
END:STANDARD
END:VTIMEZONE
BEGIN:VEVENT
DTSTART;TZID=America/Chicago:20221111T180000
DTEND;TZID=America/Chicago:20221111T200000
DTSTAMP:20260421T040013
CREATED:20220822T150928Z
LAST-MODIFIED:20221021T210231Z
UID:99967-1668189600-1668196800@www.slam.org
SUMMARY:The Sounds of Day & Dream
DESCRIPTION:Swing by the exhibition Day & Dream in Modern Germany\, 1914–1945\, for a record-listening session with curator Melissa Venator\, the Andrew W. Mellon Foundation Fellow for Modern Art. Immerse yourself in popular music of the era while exploring the art on view and visit the Museum’s Cafe beforehand for drinks. \nRegistration not required. \nProgram will take place in the Sidney S. and Sadie M. Cohen Gallery 234; food and drinks are not permitted in the galleries.
URL:https://www.slam.org/event/the-sounds-of-day-dream/
LOCATION:Saint Louis Art Museum\, One Fine Arts Drive\, Forest Park\, St. Louis\, MO\, 63110-1380
CATEGORIES:Adults
END:VEVENT
END:VCALENDAR