BEGIN:VCALENDAR
VERSION:2.0
PRODID:-//Saint Louis Art Museum - ECPv6.15.18//NONSGML v1.0//EN
CALSCALE:GREGORIAN
METHOD:PUBLISH
X-WR-CALNAME:Saint Louis Art Museum
X-ORIGINAL-URL:https://www.slam.org
X-WR-CALDESC:Events for Saint Louis Art Museum
REFRESH-INTERVAL;VALUE=DURATION:PT1H
X-Robots-Tag:noindex
X-PUBLISHED-TTL:PT1H
BEGIN:VTIMEZONE
TZID:America/Chicago
BEGIN:DAYLIGHT
TZOFFSETFROM:-0600
TZOFFSETTO:-0500
TZNAME:CDT
DTSTART:20230312T080000
END:DAYLIGHT
BEGIN:STANDARD
TZOFFSETFROM:-0500
TZOFFSETTO:-0600
TZNAME:CST
DTSTART:20231105T070000
END:STANDARD
BEGIN:DAYLIGHT
TZOFFSETFROM:-0600
TZOFFSETTO:-0500
TZNAME:CDT
DTSTART:20240310T080000
END:DAYLIGHT
BEGIN:STANDARD
TZOFFSETFROM:-0500
TZOFFSETTO:-0600
TZNAME:CST
DTSTART:20241103T070000
END:STANDARD
BEGIN:DAYLIGHT
TZOFFSETFROM:-0600
TZOFFSETTO:-0500
TZNAME:CDT
DTSTART:20250309T080000
END:DAYLIGHT
BEGIN:STANDARD
TZOFFSETFROM:-0500
TZOFFSETTO:-0600
TZNAME:CST
DTSTART:20251102T070000
END:STANDARD
END:VTIMEZONE
BEGIN:VEVENT
DTSTART;TZID=America/Chicago:20241011T110000
DTEND;TZID=America/Chicago:20241011T140000
DTSTAMP:20260419T154934
CREATED:20241007T204906Z
LAST-MODIFIED:20241007T211008Z
UID:166595-1728644400-1728655200@www.slam.org
SUMMARY:Toddler and Me—ADHD awareness immersive installation
DESCRIPTION:Practice breathing and mindfulness with an artmaking activity. Kids can create a custom pin wheel\, explore Martha Valenta‘s installation\, Lost & Found Meditation\, and meet the artist. \nThe artwork in Sculpture Hall will be open for exploration for families and children from 11 am–2 pm and for adults from 4–8 pm during SLAM Social.
URL:https://www.slam.org/event/toddler-and-me-adhd-awareness-immersive-installation/
LOCATION:Sculpture Hall\, One Fine Arts Drive\, Forest Park\, St. Louis\, Missouri\, 63110-1380
CATEGORIES:Families,Free Fridays,Youth
END:VEVENT
END:VCALENDAR