BEGIN:VCALENDAR
VERSION:2.0
PRODID:-//Saint Louis Art Museum - ECPv6.15.18//NONSGML v1.0//EN
CALSCALE:GREGORIAN
METHOD:PUBLISH
X-WR-CALNAME:Saint Louis Art Museum
X-ORIGINAL-URL:https://www.slam.org
X-WR-CALDESC:Events for Saint Louis Art Museum
REFRESH-INTERVAL;VALUE=DURATION:PT1H
X-Robots-Tag:noindex
X-PUBLISHED-TTL:PT1H
BEGIN:VTIMEZONE
TZID:America/Chicago
BEGIN:DAYLIGHT
TZOFFSETFROM:-0600
TZOFFSETTO:-0500
TZNAME:CDT
DTSTART:20210314T080000
END:DAYLIGHT
BEGIN:STANDARD
TZOFFSETFROM:-0500
TZOFFSETTO:-0600
TZNAME:CST
DTSTART:20211107T070000
END:STANDARD
BEGIN:DAYLIGHT
TZOFFSETFROM:-0600
TZOFFSETTO:-0500
TZNAME:CDT
DTSTART:20220313T080000
END:DAYLIGHT
BEGIN:STANDARD
TZOFFSETFROM:-0500
TZOFFSETTO:-0600
TZNAME:CST
DTSTART:20221106T070000
END:STANDARD
BEGIN:DAYLIGHT
TZOFFSETFROM:-0600
TZOFFSETTO:-0500
TZNAME:CDT
DTSTART:20230312T080000
END:DAYLIGHT
BEGIN:STANDARD
TZOFFSETFROM:-0500
TZOFFSETTO:-0600
TZNAME:CST
DTSTART:20231105T070000
END:STANDARD
END:VTIMEZONE
BEGIN:VEVENT
DTSTART;TZID=America/Chicago:20220426T180000
DTEND;TZID=America/Chicago:20220426T190000
DTSTAMP:20260425T143357
CREATED:20220329T155135Z
LAST-MODIFIED:20220329T161600Z
UID:90170-1650996000-1650999600@www.slam.org
SUMMARY:Virtual Program—Meet the Artist: Liliana Porter
DESCRIPTION:Members of the Contemporary Art Society are invited to join a conversation with Argentine artist Liliana Porter. Porter is an avid collector of toys and trinkets\, which she repurposes across all mediums. Her video work Fox in the Mirror will be screened at the Saint Louis Art Museum from May 6 to September 11 in Gallery 301. Two prints and a sculpture are included in the upcoming exhibition Catching the Moment: Contemporary Art from the Ted L. and Maryanne Ellison Simmons Collection\, which opens June 26. \nRegistration is required. RSVP to receive an online link before April 25 to 314.655.5390 or email collectors.circle@slam.org. \nCollectors Circle programs at the Saint Louis Art Museum are presented by the Betsy and Thomas Patterson Foundation. \n 
URL:https://www.slam.org/event/virtual-program-meet-the-artist-liliana-porter/
LOCATION:Online
CATEGORIES:BAC Events,CAS Events
END:VEVENT
END:VCALENDAR