BEGIN:VCALENDAR
VERSION:2.0
PRODID:-//Saint Louis Art Museum - ECPv6.15.18//NONSGML v1.0//EN
CALSCALE:GREGORIAN
METHOD:PUBLISH
X-WR-CALNAME:Saint Louis Art Museum
X-ORIGINAL-URL:https://www.slam.org
X-WR-CALDESC:Events for Saint Louis Art Museum
REFRESH-INTERVAL;VALUE=DURATION:PT1H
X-Robots-Tag:noindex
X-PUBLISHED-TTL:PT1H
BEGIN:VTIMEZONE
TZID:America/Chicago
BEGIN:DAYLIGHT
TZOFFSETFROM:-0600
TZOFFSETTO:-0500
TZNAME:CDT
DTSTART:20240310T080000
END:DAYLIGHT
BEGIN:STANDARD
TZOFFSETFROM:-0500
TZOFFSETTO:-0600
TZNAME:CST
DTSTART:20241103T070000
END:STANDARD
BEGIN:DAYLIGHT
TZOFFSETFROM:-0600
TZOFFSETTO:-0500
TZNAME:CDT
DTSTART:20250309T080000
END:DAYLIGHT
BEGIN:STANDARD
TZOFFSETFROM:-0500
TZOFFSETTO:-0600
TZNAME:CST
DTSTART:20251102T070000
END:STANDARD
BEGIN:DAYLIGHT
TZOFFSETFROM:-0600
TZOFFSETTO:-0500
TZNAME:CDT
DTSTART:20260308T080000
END:DAYLIGHT
BEGIN:STANDARD
TZOFFSETFROM:-0500
TZOFFSETTO:-0600
TZNAME:CST
DTSTART:20261101T070000
END:STANDARD
END:VTIMEZONE
BEGIN:VEVENT
DTSTART;TZID=America/Chicago:20250321T180000
DTEND;TZID=America/Chicago:20250321T190000
DTSTAMP:20260424T040020
CREATED:20241217T212940Z
LAST-MODIFIED:20250304T202441Z
UID:192275-1742580000-1742583600@www.slam.org
SUMMARY:Voices from the Clay
DESCRIPTION:In connection with Grounded in Clay: The Spirit of Pueblo Pottery\, artist Nora Naranjo Morse will share stories from Pueblo clay workers past and present. Listen as her stories create a deeper appreciation of the exhibition and speak to the power of the land and her people.
URL:https://www.slam.org/event/voices-from-the-clay/
LOCATION:The Farrell Auditorium\, One Fine Arts Drive\, Forest Park\,\, St. Louis\, Missouri\, 63110-1380
CATEGORIES:Free Fridays,Lectures
END:VEVENT
END:VCALENDAR