BEGIN:VCALENDAR
VERSION:2.0
PRODID:-//Saint Louis Art Museum - ECPv6.15.18//NONSGML v1.0//EN
CALSCALE:GREGORIAN
METHOD:PUBLISH
X-WR-CALNAME:Saint Louis Art Museum
X-ORIGINAL-URL:https://www.slam.org
X-WR-CALDESC:Events for Saint Louis Art Museum
REFRESH-INTERVAL;VALUE=DURATION:PT1H
X-Robots-Tag:noindex
X-PUBLISHED-TTL:PT1H
BEGIN:VTIMEZONE
TZID:America/Chicago
BEGIN:DAYLIGHT
TZOFFSETFROM:-0600
TZOFFSETTO:-0500
TZNAME:CDT
DTSTART:20230312T080000
END:DAYLIGHT
BEGIN:STANDARD
TZOFFSETFROM:-0500
TZOFFSETTO:-0600
TZNAME:CST
DTSTART:20231105T070000
END:STANDARD
BEGIN:DAYLIGHT
TZOFFSETFROM:-0600
TZOFFSETTO:-0500
TZNAME:CDT
DTSTART:20240310T080000
END:DAYLIGHT
BEGIN:STANDARD
TZOFFSETFROM:-0500
TZOFFSETTO:-0600
TZNAME:CST
DTSTART:20241103T070000
END:STANDARD
BEGIN:DAYLIGHT
TZOFFSETFROM:-0600
TZOFFSETTO:-0500
TZNAME:CDT
DTSTART:20250309T080000
END:DAYLIGHT
BEGIN:STANDARD
TZOFFSETFROM:-0500
TZOFFSETTO:-0600
TZNAME:CST
DTSTART:20251102T070000
END:STANDARD
END:VTIMEZONE
BEGIN:VEVENT
DTSTART;TZID=America/Chicago:20240927T080000
DTEND;TZID=America/Chicago:20240927T084500
DTSTAMP:20260422T125822
CREATED:20240819T182913Z
LAST-MODIFIED:20240926T184941Z
UID:158631-1727424000-1727426700@www.slam.org
SUMMARY:Weather Cancellation—Yoga in the Garden with Nico Marie
DESCRIPTION:Because of the weather\, Yoga in the Garden has been rescheduled for October 4.  \nIn celebration of National Yoga Awareness Month\, join yogi Nico Marie for a session in the Museum’s Grace Taylor Broughton Sculpture Garden. \nNo experience needed; sessions are beginner friendly. Please wear comfortable clothes and bring a yoga mat. Participants must be 18 or older.
URL:https://www.slam.org/event/yoga-in-the-garden-with-nico-marie-4/
LOCATION:Grace Taylor Broughton Sculpture Garden\, One Fine Arts Drive\, Forest Park\, St. Louis\, Missouri\, 63110-1380
CATEGORIES:Adults,Free Fridays
END:VEVENT
END:VCALENDAR